BEGIN:VCALENDAR
METHOD:PUBLISH
VERSION:2.0
PRODID:-//Eventilla iCal Syndication//NONSGML Liana//EN
BEGIN:VEVENT
UID:OlbaX@eventilla.com
DTSTAMP:20231202T080000Z
DTSTART:20231202T080000Z
DTEND:20231202T133000Z
SUMMARY:Uusien tilojen siunaus ja adventtitapahtuma
DESCRIPTION:Joulun odotuksessa\nJoulupaaston ja adventin aika ovat edessäpäin. Ortodoksisessa kirkossa Kristuksen syntymän odotus kestää kaikkiaan kuusi viikkoa. Läntiset kirkot ovat lyhentäneet sen neljään viikkoon.\nSofiassa on muodostunut perinteeksi järjestää ekumeeninen adventtitapahtuma joulukuun alussa. Tänä vuonna siihen liittyy päärakennuksen uusittujen majoitus- ja kokoustilojen siunaus. Samalla vierailla on tilaisuus tutustua taidemaalari Marjatta Tapiolan uuteen näyttelyyn alakerran galleriassa.
LOCATION:Kulttuurikeskus Sofia\, Kallvikinniementie 35\, 00980\,
 Helsinki\, Suomi
URL:http://ssl.eventilla.com/adventtitapahtuma_ja_uusien_tilojen_siunaus
END:VEVENT
END:VCALENDAR
