BEGIN:VCALENDAR
METHOD:PUBLISH
VERSION:2.0
PRODID:-//Eventilla iCal Syndication//NONSGML Liana//EN
BEGIN:VEVENT
UID:OobVY@eventilla.com
DTSTAMP:20260313T143000Z
DTSTART:20260313T143000Z
DTEND:20260314T130000Z
SUMMARY:Joogaviikonloppu Lapua
LOCATION:STEP-koulutus Lapua\, Siiriläntie 11-13\, 62100\, Lapua\, Suomi
URL:http://ssl.eventilla.com/joogaretriittilapua
END:VEVENT
END:VCALENDAR
