BEGIN:VCALENDAR
METHOD:PUBLISH
VERSION:2.0
PRODID:-//Eventilla iCal Syndication//NONSGML Liana//EN
BEGIN:VEVENT
UID:PPXkW@eventilla.com
DTSTAMP:20230921T110000Z
DTSTART:20230921T110000Z
DTEND:20230921T130000Z
SUMMARY:IIA:n ja ISACA:n Yhteinen Kuukausikokous Nordealla
DESCRIPTION:Tietosuoja-asetuksen mukainen tietosuoja / rekisteriseloste.
LOCATION:Helsinki / Etäyhteys
URL:http://ssl.eventilla.com/kuukausikokous-nordealla
END:VEVENT
END:VCALENDAR
