BEGIN:VCALENDAR
METHOD:PUBLISH
VERSION:2.0
PRODID:-//Eventilla iCal Syndication//NONSGML Liana//EN
BEGIN:VEVENT
UID:PPaEB@eventilla.com
DTSTAMP:20240914T083000Z
DTSTART:20240914T083000Z
DTEND:20240914T140000Z
SUMMARY:Kaisaniemen Juoksu 2024
DESCRIPTION:Kaisaniemen Juoksu 2024 juostaan 14.9.2024.\nIlmoittautuminen tapahtumaan on nyt auki!\nLue lisää tapahtuman nettisivuilta.\nMaksutapoina on yleisimmät suomalaiset verkkopankit ja luottokortit\, sekä liikuntaedut.\nMikäli valitset maksutavaksi liikuntaedut\, katsothan maksuohjeet täältä: https://www.runhigh.fi/liikuntaeduilla-maksaminen\nLiikuntaedut ovat henkilökohtaisia\, joten niillä voit maksaa vain oman ilmoittautumisesi.
LOCATION:Alppipuisto\, Helsinki\, Suomi
URL:http://ssl.eventilla.com/kaisaniemen-juoksu-2024
END:VEVENT
END:VCALENDAR
