BEGIN:VCALENDAR
METHOD:PUBLISH
VERSION:2.0
PRODID:-//Eventilla iCal Syndication//NONSGML Liana//EN
BEGIN:VEVENT
UID:PPw1K@eventilla.com
DTSTAMP:20230331T210000Z
DTSTART:20230331T210000Z
DTEND:20230603T210000Z
SUMMARY:Vesiralli 1 (lauantai-ryhmä)
DESCRIPTION:Vesiralli 1 (lauantai-ryhmä)\nTavoite\nParantaa uimataitoa. Hauskuus. Uintiekniikoiden oppiminen. \nTaitovaatimus\nIkäsuositus: 7-vuotta. Tekniikka-uimakoulu käytynä. Vähintään 25 m sujuva uimataito. \nHarjoitteet\nEri uintilajien perustekniikat. Taitouintiliikkeitä. Vesipallon perusteet. Sukeltamista. Hyppyjä.\nOpetusallas: Iso allas (syvyys: 120cm - 230 cm)Ryhmäkoko: 9 - 16 lasta\nHuomioitavaa\nSuuren kysynnän vuoksi ilmoittautuminen tapahtuu ensin jonotuslistalle\, jonka jälkeen pyrimme järjestämään ryhmät kaikille osallistujille parhaimmalla tavalla.\nJonotuslistalle ilmoittautuminen ei vielä takaa osallistumisoikeutta kurssille.\nSaat ilmoittautumisen yhteydessä sähköpostin vahvistuksena\, joka takaa että ilmoittautumisesi on tullut perille.\nIlmoitamme kaikille kursseille valituille maksuohjeet myöhemmin erillisellä sähköpostiviestillä.
LOCATION:Zimmari\, Pekurintie 1\, 90450\, Kempele
URL:http://ssl.eventilla.com/kempy-vesiralli1-la44
END:VEVENT
END:VCALENDAR
