BEGIN:VCALENDAR
METHOD:PUBLISH
VERSION:2.0
PRODID:-//Eventilla iCal Syndication//NONSGML Liana//EN
BEGIN:VEVENT
UID:PoV9O@eventilla.com
DTSTAMP:20260611T070000Z
DTSTART:20260611T070000Z
DTEND:20260611T120000Z
SUMMARY:Kalastuspäivä
DESCRIPTION:Kalastuspäivä yli 10-vuotiaille torstaina 11.6. klo 10-15 Raumakarilla\, 7-9-vuotiaat vanhemman seurassa. Tule tutustumaan kalastukseen\, oppimaan tekniikoita ja kalastamaan. Ota mukaan oma virveli\, mikäli sinulla on\, eväät ja aurinkolasit. Uimataidottomilla pitää olla pelastusliivit.\nOhjaajana Suomen vapaa-ajankalastajien Mikael Jaakkola.
LOCATION:
URL:http://ssl.eventilla.com/kalastuspaivakesa-26
END:VEVENT
END:VCALENDAR
