BEGIN:VCALENDAR
METHOD:PUBLISH
VERSION:2.0
PRODID:-//Eventilla iCal Syndication//NONSGML Liana//EN
BEGIN:VEVENT
UID:Q244K@eventilla.com
DTSTAMP:20221018T070000Z
DTSTART:20221018T070000Z
DTEND:20221018T143000Z
SUMMARY:KontaktaAkademin: Sälja bra eller sälja bäst! Heldag med Peppe Ekmark. Inkl. 4 digitala gruppträffar
DESCRIPTION:KontaktAkademin Stockholm:\nSälja bra eller sälja bäst!Heldag med Peppe Ekmark. Inkl. 4 digitala gruppträffar\nMånga säljare idag vet mycket om vad som krävs för att lyckas. Men … vill du sälja bra eller vill du sälja BÄST? Små saker gör stor skillnad och det skapar framgång hos en säljare. Om du gör jobbet grundligt\, kommer du att lyckas!\nUnder en dag går vi igenom säljmetodiken steg för steg och kombinerar det med konkret kunskap\, tydliga verktyg och allmänna råd och tips. Till detta kommer gemensamma diskussioner\, idéutbyte och en mängd inspiration. Resultatet blir en konkret och kraftfull handlingsplan som garanterat kommer att ge ökad försäljningen för dig som individ och företaget. Du kommer gå från att sälja bra till att sälja BÄST!\n\nVad blir vinsten för kunden? Vad blir vinsten för dig?\nHur förbereder du dig innan det där första samtalet?\nHur gör du en effektiv och vinnande behovsanalys?\nHur presenterar du din produkt?\nHur hanterar du invändningar?\n\nDessa frågor och mycket mer kommer du få svar på under denna dag. Du som ny säljare får en hel del ny och avgörande kunskap för ditt yrke och du som erfaren säljare kommer få med dig mängder av aha-upplevelser och tips för att göra dig till en ännu bättre och mer effektiv säljare.\nFörsäljningssuccén ”Sälja bra eller sälja bäst” är boken av Peppe Ekmark som beskriver hur du blir en framgångsrik säljare och som ligger till grund för denna utbildning.\nUtbildningens upplägg: \nDen första gruppträffen sker en heldag där gruppen träffas fysiskt i Stockholm. Där presenterar man sina utmaningar samt får hela säljutbildningen presenterad med hela upplägget. Efter detta träffas gruppen en gång i veckan digitalt under två timmar där man går igenom två steg i taget samt sammanfattar tillsammans vad man har lärt sig. Efter denna utbildning erhåller deltagarna ett diplom samt en workbook med hela utbildningen sammanfattad.\nFör vem?\nDenna utbildning riktar sig till dig som jobbar med försäljning. Är sälj ditt huvudsakliga uppdrag eller är det del av ditt uppdrag på kundservice att också sälja? Utbildningen passar er båda. Kanske är du ny som säljare och kanske är du en erfaren säljare. Denna utbildning riktar sig till alla som jobbar med just försäljning.\nPlats:\nUtbildningen ges på Kontaktas kontor som ligger centralt i Stockholm.\nVår utbildare:\nPeppe Ekmark är en av Sveriges främsta profiler inom försäljning\, med mer än 30 års erfarenhet av att själv bedriva framgångsrikt säljarbete. Trots bristande självförtroende som barn började Peppe sin resa mot att bli en framgångsrik säljare\, ledare och entreprenör. Hans nyfikenhet och livslust har gett honom uthållighet och mod\, något som är avgörande för att bli en bra säljare. Hans förmåga att bygga varma och hållbara relationer gav honom det lilla extra som gjort honom till en väldigt uppskattad säljare. Allt detta får du ta del av i denna utbildning!\n\nPraktiska detaljer:\n\n\n\nDatum:\n\n18 oktober 2022\n\n\n\nTid:\n\n9:00–16:30\n\n\n\nPlats:\n\nKontaktas kontorDavid Bagares gata 9111 38 Stockholm\n\n\n\n\nPris:\n\n\n3 900 kronor Kontaktas medlemmar5 900 kronor icke medlem i Kontakta\n(För 5 eller fler deltagare från samma företag\, maila Kontakta för offert.)\nmoms tillkommer\n\n\n\n\nVid frågor\, kontakta Linda Moser på info@kontakta.se alternativt 070 439 00 87.\n 
LOCATION:Kontaktas kontor\, David Bagares gata 9\, 111 38\, Stockholm
URL:http://ssl.eventilla.com/event/Q244K
END:VEVENT
END:VCALENDAR
