BEGIN:VCALENDAR
METHOD:PUBLISH
VERSION:2.0
PRODID:-//Eventilla iCal Syndication//NONSGML Liana//EN
BEGIN:VEVENT
UID:Q2p6Y@eventilla.com
DTSTAMP:20240520T060000Z
DTSTART:20240520T060000Z
DTEND:20240520T120000Z
SUMMARY:Ulos seikkailemaan\, taiteilemaan ja oppimaan\, 20.5.2024\, Helsinki
DESCRIPTION:Syklin ja Seikkailutaidekoulun monipuolinen koulutuskokonaisuus sisältää innostavia käytännön ideoita varhaiseen taide- ja ympäristökasvatukseen ulkona.\nKenelle koulutus sopii?\nKoulutus sopii kaikille työssäkäyville kasvattajille ja opettajille\, jotka työskentelevät varhaiskasvatuksen ja esiopetuksen parissa.\nKoulutuksen hinta: \nKoulutus on osallistujalle maksutonta ja on Opetushallituksen rahoittama täydennyskoulutus.\nKoulutuksen sisältö: \nKoulutuksen sisällöt nivotaan VASU:n ja EOPS:n perusteisiin painottaen oppimisympäristöjen laajentamista lähiluontoon\, tieto- ja viestintäteknologian käyttöä ja monilukutaitoa.\nTavoitteena on\, että taiteen mahdollisuudet ympäristökasvatuksessa aukeavat osallistujille uudella tavalla seikkailutaiteen leikillisten menetelmien avulla.\nLeikki ja luovuus kulkevat seikkailutaidekasvatuksessa käsi kädessä!\nKoulutuksen laajuus on 2 op ja siihen kuuluu ennakkotehtävä\, lähikoulutuspäivä\, välitehtävä sekä 1\,5 tunnin verkkotapaaminen.\nVerkkotapaamisen päivämäärä on 4.6. klo 15.30-17.00.\nKoulutuksesta saa todistuksen\, kun osa-alueet on suoritettu. Koulutusosion suorittaneiden kesken arvotaan Seikkailutaidekoulun seikkailutaidekortteja ja Ilo kasvaa ulkona -luontotoiminnan käsikirjoja.\nHUOM! Tee ilmoittautuminen loppuun saakka! Jos et saa tervetulokirjettä pian ilmoittautumisesi jälkeen sähköpostitse\, niin tarkista roskapostikansio. Jos viestiä ei löydy sieltäkään\, niin tee ilmoittautuminen uudelleen.\nKouluttajina tässä koulutuksessa toimivat: \nSinikka Kunttu\, kouluttaja. Ympäristö- ja kestävyyskasvatus\, Suomen ympäristöopisto SYKLI\nVerna Kuntsi\, seikkailutaiteen ja kuvataiteen opettaja\, Seikkailutaidekoulu\nSatu Sipilä\, seikkailutaiteen ja kuvataiteen opettaja\, Seikkailutaidekoulu\n \n         
LOCATION:Kulttuurikeskus Stoa\, Turunlinnantie 1\, 00900\, Helsinki
URL:http://ssl.eventilla.com/ulos_seikkailemaantaiteilemaanjaoppimaan_200524_helsinki
END:VEVENT
END:VCALENDAR
