BEGIN:VCALENDAR
METHOD:PUBLISH
VERSION:2.0
PRODID:-//Eventilla iCal Syndication//NONSGML Liana//EN
BEGIN:VEVENT
UID:Q33E4@eventilla.com
DTSTAMP:20260513T143000Z
DTSTART:20260513T143000Z
DTEND:20260513T160000Z
SUMMARY:Suoja26-webinaari: harjoituksen tärkeimmät tulokset ja havainnot
DESCRIPTION:Tammikuussa järjestetyssä Suoja26-harjoituksessa vapaaehtoiset asukkaat ottivat Hekan vuokratalon väestönsuojan käyttöönsä 72 tunnin aikana ja suojautuivat tilaan jopa vuorokaudeksi. Harjoitus tarjosi arvokasta tietoa väestönsuojien käyttöönotosta ja suojautujien kokemuksista suojautumistilanteessa. \nAsuinkohteen erillisessä 50 neliömetrin S1-luokan väestönsuojassa on paikkoja 67 asukkaalle ja tilaa suojautujaa kohden on 0\,75 neliömetriä. Suoja on hyvin tyypillinen asuinrakennuksen väestönsuoja. Harjoitukseen osallistui noin 40 asukasta. Harjoituksessa suoja tyhjennettiin ja valmisteltiin harjoitusta varten. Asukkaat suojautuivat 24 tunnin ajaksi\, jonka aikana he rakensivat suojaan mm. sängyt ja kuivakäymälät\, ja reagoivat erilaisiin tilanteisiin.\nHarjoituksen projektipäällikkö Jeremi Teukku kertoo webinaarissa harjoituksen kulusta ja sen aikana kootuista tärkeimmistä havainnoista.\n 
LOCATION:Teams
URL:http://ssl.eventilla.com/event/Q33E4
END:VEVENT
END:VCALENDAR
