BEGIN:VCALENDAR
METHOD:PUBLISH
VERSION:2.0
PRODID:-//Eventilla iCal Syndication//NONSGML Liana//EN
BEGIN:VEVENT
UID:Q3VJy@eventilla.com
DTSTAMP:20260922T053000Z
DTSTART:20260922T053000Z
DTEND:20260923T130000Z
SUMMARY:Vaarallisten aineiden maantiekuljetukset (VAK/ADR)
DESCRIPTION:Vaarallisten aineiden maantiekuljetukset (VAK/ADR)\nVaarallisten aineiden maantiekuljetukset -kurssi on kahden päivän tiivis kokonaispaketti perustietoa tarvitseville. Kurssilla käsitellään laajasti maantiekuljetuksiin liittyviä asioita kuten:\n\nvaarallisten aineiden luokitusjärjestelmä\npakkaaminen ja pakkausmerkinnät\nasiakirjavaatimukset\nkuormaaminen ja tavaran käsittely\nvapaarajat ja muut vapautukset\neri kuljetustavat\nkuljetusyksiköiden merkinnät\nvaruste- ja katsastusvaatimukset\n\nKurssilla opetellaan itsenäistä tiedon hakua ja tehdään runsaasti harjoitustehtäviä\n \n 
LOCATION:Scandic Oulu City\, Saaristonkatu 4\, 90100\, Oulu\, Suomi
URL:http://ssl.eventilla.com/event/Q3VJy
END:VEVENT
END:VCALENDAR
