BEGIN:VCALENDAR
METHOD:PUBLISH
VERSION:2.0
PRODID:-//Eventilla iCal Syndication//NONSGML Liana//EN
BEGIN:VEVENT
UID:QVQ7M@eventilla.com
DTSTAMP:20260604T070000Z
DTSTART:20260604T070000Z
DTEND:20260604T090000Z
SUMMARY:Parkour
DESCRIPTION:Parkourpäivä kouluikäisille torstaina 4.6. klo 10-12 Maijamäen lähiliikuntapaikalla. Parkour oppeja aloittelijoille sekä jo vähän harrastaneille. Ohjaajana toimii Parkour Akatemian koulutettu ohjaaja. \nHinta naantalilaisille 10 €.\nIlmoittautuminen on sitova\, maksu palautetaan vain sairastapauksissa. Päivä toteutuu mikäli vähintään 6 osallistujaa.
LOCATION:Maijamäen lähiliikuntapaikka\, Kristofferinkatu 1\, 21100\,
 Naantali\, Suomi
URL:http://ssl.eventilla.com/parkourpaivakesa26
END:VEVENT
END:VCALENDAR
