BEGIN:VCALENDAR
METHOD:PUBLISH
VERSION:2.0
PRODID:-//Eventilla iCal Syndication//NONSGML Liana//EN
BEGIN:VEVENT
UID:QVQv2@eventilla.com
DTSTAMP:20260625T060000Z
DTSTART:20260625T060000Z
DTEND:20260626T100000Z
SUMMARY:Koirakurssi
DESCRIPTION:Koirakurssi 3.-6.-luokkalaisille Haijaisten toimintakeskuksessa 25.-26.6. klo 10-13 molempina päivinä.\nKoirakurssilla vietetään aikaa koirien kanssa\, tutustutaan koiran hoitoon sekä koiran ohjaamiseen helppojen ja hauskojen temppujen muodossa. Lisäksi koirakurssilla leikitään ryhmässä\, tehdään koiran kanssa miniesitys ja pelataan eläinaiheisia pelejä. Et tarvitse aiempaa kokemusta koirista. Mukaan tarvitset juomapullon ja sään mukaiset varusteet. Kurssipäivinä syödään yhdessä eväät\, jotka sisältyvät kurssiin.\nHinta 30 €. Toiminta toteutetaan mikäli osallistujia on vähintään 10.\nIlmoittautuminen on sitova\, maksu palautetaan vain sairastapauksissa.
LOCATION:Haijaisten toimintakeskus\, Suutarintie 5\, 21100\, Naantali\,
 Suomi
URL:http://ssl.eventilla.com/koirakurssikesa26
END:VEVENT
END:VCALENDAR
