BEGIN:VCALENDAR
METHOD:PUBLISH
VERSION:2.0
PRODID:-//Eventilla iCal Syndication//NONSGML Liana//EN
BEGIN:VEVENT
UID:QVeX9@eventilla.com
DTSTAMP:20250411T030000Z
DTSTART:20250411T030000Z
DTEND:20261231T215900Z
SUMMARY:Talousrikosoikeuden erityispiirteitä I – yleinen osa
DESCRIPTION:Tässä osassa käsitellään talousrikosoikeutta ilmiönä ja oikeudenalana painottaen rikoslain yleisen osan soveltamista talousrikoksien tulkinnassa. Osallistuja saa syvällistä tietoa mm. osallisuusopista\, tahallisuuden arvioinnista ja asianomistajan roolista talousrikosoikeudellisissa kysymyksissä. Tämä osa tarjoaa vankan teoreettisen ja käytännön pohjan talousrikosten käsittelemiseen oikeudellisesta näkökulmasta.\nTalousrikosoikeuden sarja (osat I ja II) tarjoaa käytännönläheisen perehdytyksen talousrikosoikeuden erityisiin teemoihin. Osallistuja saa käsityksen talousrikosoikeuden ydinalueista\, kuten osallisuusopista\, tahallisuudesta ja arvopaperimarkkinarikoksista\, sekä päivitetyn tiedon korkeimman oikeuden tuoreimmista ennakkoratkaisuista. Koulutus tarjoaa käytännön työkaluja\, joita voi soveltaa asiakastapauksiin ja jotka auttavat pysymään ajan tasalla nopeasti kehittyvässä oikeuskentässä.\nKouluttajana toimii Kai Kotiranta\, laamanni\, asianajaja\, dosentti\, OTT\, Kotiranta & Co Asianajotoimisto Oy.Talousrikosoikeuden erityispiirteitä II – arvopaperimarkkinarikokset on saatavilla verkkokoulutuksena tämän linkin kautta.\nKoulutus maksetaan heti oston yhteydessä verkossa. Maksettuasi koulutuksen verkossa saat vahvistusviestissä ohjeet verkkokoulutukseen siirtymisestä. Mikäli et ole aiemmin hyödyntänyt verkkokoulutuksiamme\, luo järjestelmä sinulle uudet tunnukset ja saat siitä tiedon oston tai ilmoittautumisen yhteydessä käyttämääsi sähköpostiin. Tarkista myös roskaposti. Voit tarvittaessa uusia salasanasi Asianajaja-akatemian verkkokoulutusympäristöön sen kirjautumissivulla.\nKoulutus on hankittavissa 15.12.2026 mennessä ja materiaalit käytettävissä 31.12.2026 saakka. \nKoulutus perustuu 13.3.2025 toteutettuun koulutustilaisuuteen.\nHinta ja peruutusehdot\n250 euroa\nKausikortilla kouluttaudut edullisesti koko vuoden ja kausikorttikoodilla saat koulutuksen maksutta. Kirjaa koodi ilmoittautumislomakkeen loppuun.\nTutustu kausikorttitarjontaan verkkosivuillamme.\n Koulutus on vain jäsenillemme sekä asianajotoimistojen ja Oikeuspalveluviraston henkilökunnalle. Verkkokoulutuksen peruutusehtojen mukaisesti koulutusta ei voi perua eikä maksua palauteta.\nKouluttautumisvelvoite\n3 tuntia \nAsianajajan tulee kirjata verkkokoulutuksesta kertyvät kouluttautumisvelvoitteen tunnit siihen ajankohtaan\, jolloin verkkokoulutus on käyty. Verkkokoulutuksen kouluttautumisvelvoite voidaan lukea kuitenkin vain sille vuodelle\, jona verkkokoulutus on ostettu tai jona maksuttomiin koulutuksiin on ilmoittauduttu.\nJärjestäjä\nSuomen Asianajajat\nSijainti\nVerkossa\nIlmoittautuminen\nViimeistään 15.12.2026\nTäytäthän kaikki tiedot huolellisesti. Mikäli et saa vahvistusviestiä\, ole yhteydessä sähköpostitse koulutus@asianajajat.fi.\nJäsentietojasi ei päivitetä ilmoittautuessa annettujen tietojen perusteella. Voit jäsenenä päivittää yhteystietosi suoraan Asiointipalvelu ASSIssa tai osoitteella jasenasiat@asianajajat.fi. Jos et ole jäsen ja ilmoittaudut ensimmäisen kerran tilaisuuteen\, lisätään tietosi Suomen Asianajajien asiakasrekisteriin.\nLisätietoja tietosuojasta \nTervetuloa oppimaan verkossa!
LOCATION:Verkossa
URL:http://ssl.eventilla.com/event/QVeX9
END:VEVENT
END:VCALENDAR
