BEGIN:VCALENDAR
METHOD:PUBLISH
VERSION:2.0
PRODID:-//Eventilla iCal Syndication//NONSGML Liana//EN
BEGIN:VEVENT
UID:R13lE@eventilla.com
DTSTAMP:20240327T063000Z
DTSTART:20240327T063000Z
DTEND:20240327T100000Z
SUMMARY:Kaupunkituulivoiman mahdollisuudet Suomessa: SmartCityWind -hankkeen aloitusseminaari
DESCRIPTION:Voiko tuulivoimaa hyödyntää myös kaupunkialueilla? Voiko pieniin tuuligeneraattoreihin investoiminen olla kannattavaa? Millaista suunnittelutyötä ja luvittamista kaupunkituulivoiman hyödyntäminen edellyttää. Ja mitä se kaupunkituulivoima oikeastaan on? Tervetuloa SmartCityWind -hankkeen aloitusseminaariin\, johon toivotamme kaikki uusiutuvasta energiasta kiinnostuneet tervetulleeksi. Tapahtuman sisältö koostuu useista lyhyehköistä puheenvuoroista. \nOhjelma\nTilaisuuden avaus\nKaupunkituuli\, mitä se on?Mikko Auvinen\, Ilmatieteen laitos\nLogistiikka- ja teollisuuskiinteistöjen energiakonseptitHeikki Lahtinen\, Limowa ry\nUusiutuvan energian EspooElina Wanne\, Espoo\nMitä hanke SmartCityWind tarjoaa kiinteistönomistajille ja yrityksille?Ari Laitala\, Suomen ympäristöopisto Sykli\nTapahtuma järjestetään Keskuskirjasto Oodissa Helsingissä\, mutta tapahtumaan voi osallistua myös etänä Teamsin kautta. Kysy lisää:Ari Laitalaari.laitala@sykli.fi+358 50 566 8998
LOCATION:Oodi keskuskirjasto & Teams\, Töölönlahdenkatu 4\, 00100\,
 Helsinki
URL:http://ssl.eventilla.com/smartcitywind-hankkeen-aloitusseminaari
END:VEVENT
END:VCALENDAR
