BEGIN:VCALENDAR
METHOD:PUBLISH
VERSION:2.0
PRODID:-//Eventilla iCal Syndication//NONSGML Liana//EN
BEGIN:VEVENT
UID:RG08P@eventilla.com
DTSTAMP:20250321T180000Z
DTSTART:20250321T180000Z
DTEND:20250322T000000Z
SUMMARY:Tehtaan Salakapakka: Cleaning Women
DESCRIPTION:Tehtaan Salakapakka: Cleaning Women\nPe 21.3. klo 22 (ovet klo 20)Lippu: 12 €Ikäraja: K18\nCleaning Women on saanut yleisön leuat loksahtamaan ja tanssijalan vipattamaan jo yli neljännesvuosisadan ajan. Yhtyeen valttikortteina ovat uniikit itsetehdyt ja kustomoidut instrumentit\, ja tietenkin omaperäinen\, mutta helposti omaksuttava musiikillinen ilmaisu.\nTehdas Teatterin erikoiskeikalla yhtye juhlistaa debyyttilevynsä Pulsator uutta vinyylijulkaisua!\n 
LOCATION:TEHDAS TEATTERI\, Kulttuuritehdas Manilla, Itäinen Rantakatu 64B
 3B\, 20810\, Turku\, Suomi
URL:http://ssl.eventilla.com/salakapakka
END:VEVENT
END:VCALENDAR
