BEGIN:VCALENDAR
METHOD:PUBLISH
VERSION:2.0
PRODID:-//Eventilla iCal Syndication//NONSGML Liana//EN
BEGIN:VEVENT
UID:RG6kK@eventilla.com
DTSTAMP:20250213T064500Z
DTSTART:20250213T064500Z
DTEND:20250213T093000Z
SUMMARY:Radiovuosi 2025
DESCRIPTION:Radiovuositilaisuus 13.2.2025\n \nTervetuloa radiovuositilaisuuteen 13.2.2025\nAika: torstaina 13.2.2025 klo 9:30–11:30 (aamupala klo 8:45 alkaen)Paikka: Tennispalatsi\, sali 2 (2. krs)\, Salomonkatu 15\, Helsinki\nRadiovuositilaisuus 2025 avaa kaupallisen radion juhlavuoden! Luvassa on herkullinen tietopaketti radiomarkkinan tuoreimmista kuulumisista\, sekä eri alojen huippuosaajien puheenvuoroja audion vaikuttavuudesta ja strategisesta hyödyntämisestä osana brändin tarinaa. Tilaisuus on myös loistava paikka tavata alan ihmisiä ja vaihtaa kuulumisia kahvittelun lomassa.\nOhjelma\nHuom! Aamukahvit ovat tarjolla klo 8.45 alkaen. Ohjelma alkaa klo 9:30.\nRadion juhlavuosiToimitusjohtaja Stefan Möller\, RadioMedia\nRadion kuuntelu Suomessa vuonna 2024Toimitusjohtaja Lena Brun\, Finnpanel\nÄänen voima aivoissaProfessori Minna Huotilainen\, Helsingin Yliopisto\nDefining your audio strategyÄäniguru Ralph van Dijk (Australia)\nTilaisuus päättyy n. klo 11:30.\nIlmoittaudu mukaan alla olevasta napista.
LOCATION:Tennispalatsi\, Salomonkatu 15\, 00100\, Helsinki\, Suomi
URL:http://ssl.eventilla.com/event/RG6kK
END:VEVENT
END:VCALENDAR
