BEGIN:VCALENDAR
METHOD:PUBLISH
VERSION:2.0
PRODID:-//Eventilla iCal Syndication//NONSGML Liana//EN
BEGIN:VEVENT
UID:RG9NP@eventilla.com
DTSTAMP:20260328T063000Z
DTSTART:20260328T063000Z
DTEND:20260329T130000Z
SUMMARY:Ensiavun peruskurssi 16h
DESCRIPTION: \n 
LOCATION:Inarin kunta / yhteisötila Kultapiisku\, Piiskuntie 5\, 99800\,
 Ivalo
URL:http://ssl.eventilla.com/event/RG9NP
END:VEVENT
END:VCALENDAR
