BEGIN:VCALENDAR
METHOD:PUBLISH
VERSION:2.0
PRODID:-//Eventilla iCal Syndication//NONSGML Liana//EN
BEGIN:VEVENT
UID:RGAZZ@eventilla.com
DTSTAMP:20260428T050000Z
DTSTART:20260428T050000Z
DTEND:20260428T130000Z
SUMMARY:Henkilönostinkoulutus\, Helsinki
DESCRIPTION:Henkilönostimet vaativat pätevän koulutuksen turvallisuuden varmistamiseksi.  Henkilönostinkorttikoulutuksessa havainnollistetaan vastuiden läpikäynnin ja esimerkkien kautta käytännön toimet\, joilla turvallisuus voidaan varmistaa monipuolisesti.                  \nTarvitsetko henkilönostinta? Oletko päivittänyt tietosi uusista säännöksistä sekä vastuista ja velvollisuuksista?\nRamirent Finland Oy:n laatima henkilönostimien koulutusohjelma\, jonka tarkoituksena on kouluttaa käyttäjiä tuntemaan henkilönostimien ominaisuudet sekä antaa riittävästi tietoa nostimien tehokkaasta ja turvallisesta käytöstä. \nKoulutuksessa on huomioitu voimassa oleva lainsäädäntö ja viranomaisvaatimukset. Koulutus soveltuu pohjaksi työnantajan myöntämälle kirjalliselle luvalle käyttää nostimia. Kurssin päätteeksi teorian ja käytännön loppukokeen hyväksytysti suorittaneille luovutetaan henkilönostinkortti tai sähköinen todistus.\nHenkilönostimet vaativat pätevän koulutuksen turvallisuuden varmistamiseksi. Henkilönostimen käyttökoulutus sisältää:\n\nHinattavat ja käsin siirrettävät henkilönostimet\nAjettavat saksilavat\nAjettavat puominostimet\nHinattavat teleskooppipuomi-ja nivelpuominostimet\n\n \n
LOCATION:Ramirent Suutarila\, Tapulikaupungintie 37\, 00750\, Helsinki\,
 Suomi
URL:http://ssl.eventilla.com/event/RGAZZ
END:VEVENT
END:VCALENDAR
