BEGIN:VCALENDAR
METHOD:PUBLISH
VERSION:2.0
PRODID:-//Eventilla iCal Syndication//NONSGML Liana//EN
BEGIN:VEVENT
UID:RGJ9M@eventilla.com
DTSTAMP:20260505T053000Z
DTSTART:20260505T053000Z
DTEND:20260506T130000Z
SUMMARY:Litium- ja natriumioniakkujen kuljetus
DESCRIPTION:Litium- ja natriumioniakkujen ilmakuljetusLentoliikenteessä sattuneiden vaara- ja onnettomuustilanteiden vuoksi kansainväliset kuljetusmääräykset ovat tiukentaneet litium- ja natriumioniakkujen ilmakuljetusta. Kuljetusmääräykset ja rajoitukset riippuvat pääosin akun energiamäärästä sekä siitä\, onko akku tai paristo laitteen mukana\, kiinni laitteessa vai irrallaan. Litium- ja natriumioniakkujen valmistelu ilmakuljetukseen edellyttää siitä saatua koulutusta.\nKurssilla sivutaan myös muiden kuljetusmuotojen (maa- ja merikuljetus) vaatimuksia edellä mainittujen akkutyyppien kuljetukseen.\nKurssin päätteeksi järjestetään ilmakuljetusmääräysten mukainen loppukoe.\nKoulutuksen tavoite:Perehdyttää osanottajat litium- ja natriumioniakkujen kuljetusmääräyksiin.\nKohderyhmä:Henkilöt\, joka vastaavat litium- ja natriumioniakkulähetysten valmistelusta ilmakuljetukseen (IATA CBTA Staff Function 7.1: Personnel Responsible for Preparing Dangerous Goods Consignments). Kurssi soveltuu myös muulle akkujen kuljetusketjussa työskentelevälle henkilöstölle.
LOCATION:Skyline Airport Hotel\, Elannontie 9\, 01510\, Vantaa\, Suomi
URL:http://ssl.eventilla.com/event/RGJ9M
END:VEVENT
END:VCALENDAR
