BEGIN:VCALENDAR
METHOD:PUBLISH
VERSION:2.0
PRODID:-//Eventilla iCal Syndication//NONSGML Liana//EN
BEGIN:VEVENT
UID:RGYD6@eventilla.com
DTSTAMP:20260601T090000Z
DTSTART:20260601T090000Z
DTEND:20260603T110000Z
SUMMARY:Tenniskurssit kouluikäisille
DESCRIPTION:Tenniskurssi aloittelijoille ma-ke 1.-3.6. Kirkkopuiston tenniskentillä (Abbedissankatu 2). Ryhmä 1 klo 12-13 ja ryhmä 2 klo 13-14. Max. 12 osallistujaa / ryhmä. Kouluikäisille suunnatulla kurssilla harjoitellaan tenniksen alkeita leikkien ja pelien avulla. Hinta naantalilaisille 25 €. \nIlmoittautuminen on sitova\, maksu palautetaan vain sairastapauksissa.\nOhjauksesta vastaa Naantalin Tennis Poka ry
LOCATION:Kirkkopuiston tenniskentät\, Abbedissankatu 2\, 21100\, naantali
URL:http://ssl.eventilla.com/tenniskurssitkesa26
END:VEVENT
END:VCALENDAR
