BEGIN:VCALENDAR
METHOD:PUBLISH
VERSION:2.0
PRODID:-//Eventilla iCal Syndication//NONSGML Liana//EN
BEGIN:VEVENT
UID:RGpvJ@eventilla.com
DTSTAMP:20260508T053000Z
DTSTART:20260508T053000Z
DTEND:20260508T130000Z
SUMMARY:Esihenkilön työsuojeluvastuut
DESCRIPTION:Kohderyhmä: Esihenkilöt\, työsuojelupäälliköt\, henkilöstöhallinto\, yrityksen johto.\nKurssi keskittyy esihenkilön työsuojeluvastuisiin arjen johtamisessa. Koulutusta on hyvä täydentää muilla oman työpaikan tarpeiden mukaisilla kursseilla.\nTavoitteet:•    Ymmärtää työsuojelun perustehtävän•    Tuntee lainsäädännöstä tulevat työpaikan työsuojeluvastuut•    Tietää millaista tukea saa työsuojelun yhteistoimintahenkilöiltä ja työterveyshuollosta•    Ymmärtää turvallisen työn varmistamisen keinoja\, kuten perehdytyksen ja työn suunnittelun•    Tuntee työnantajan seurantavelvoitteen ja keinoja sen toteuttamiseen lähijohtamisessa•    Osaa toimia työtapaturmien sattuessa sekä osaa huomioida työn kokonaiskuormitusta arjen suunnittelussa•    Oppii keinoja työsuojelussa onnistumiseen\nKoulutuksen hintaan sisältyvät lounas ja kahvitukset. Koulutuksen suorittaneille lähetetään sähköinen todistus osallistumisesta.\nKurssin sisältö:\nTyösuojelun perusteet•    Työsuojelun tavoitteet•    Työsuojelun hyödyt\nTyöpaikan työsuojeluvastuut•    Työturvallisuuslain tarkoitus•    Työnantajan vastuut•    Työntekijän vastuut•    Työsuojelun valvonta ja työsuojelutarkastus\nTyösuojelun yhteistoiminta•    Työsuojelun yhteistoiminta•    Esihenkilö ja työterveyshuolto\nTyön turvallisuuden varmistaminen•    Perehdytys ja työnopastus•    Työluvat ja ammattipätevyydet•    Turvallisuuskoulutukset•    Työnjohto ja direktio-oikeus•    Työaika työsuojelun näkökulmasta\nEsihenkilön seurantavelvoite•    Jatkuvan tarkkailun velvoite•    Seurannan keinot•    Puheeksiottaminen•    Työkäyttäytyminen\, ristiriidat ja kiusaaminen\nTyötapaturmat ja kuormituksen hallinta•    Toiminta työtapaturman sattuessa•    Kuormituksen hallinta\nTyösuojelussa onnistuminen•    Onnistumisen edellytykset arjen työsuojelujohtamisessa•    Esihenkilön oma perehdytys ja jatkuva tuki
LOCATION:Scandic Rosendahl\, Pyynikintie 13\, 33230\, Tampere\, Suomi
URL:http://ssl.eventilla.com/event/RGpvJ
END:VEVENT
END:VCALENDAR
