BEGIN:VCALENDAR
METHOD:PUBLISH
VERSION:2.0
PRODID:-//Eventilla iCal Syndication//NONSGML Liana//EN
BEGIN:VEVENT
UID:VE6W4@eventilla.com
DTSTAMP:20260803T050000Z
DTSTART:20260803T050000Z
DTEND:20260814T130000Z
SUMMARY:Arctic Summer Programme 2026
DESCRIPTION:Welcome to the Arctic Summer Programme\, a two-week summer study program for international students right in the heart of Northern Finland! \nThe Arctic Summer Program offers you the opportunity to experience the authentic local study life in Oulu for 2 weeks. During the program\, you can enjoy the unique summer atmosphere of Northern Finland.\nYou can create new connections and improve your study and communication skills within one of the best education systems in the world. You will get to know the University of Oulu as well as the city of Oulu together with your co-students.\nThe program includes many cultural events and free-time activities\, all taking place in August.\nBelow you will soon see the list of courses offered for the Arctic Summer Programme 2026. The applicants may choose ONLY ONE course from the list.
LOCATION:University of Oulu, Linnanmaa campus\, Erkki Koiso-Kanttilan katu
 1\, 90570\, Oulu\, Finland
URL:http://ssl.eventilla.com/event/VE6W4
END:VEVENT
END:VCALENDAR
