BEGIN:VCALENDAR
METHOD:PUBLISH
VERSION:2.0
PRODID:-//Eventilla iCal Syndication//NONSGML Liana//EN
BEGIN:VEVENT
UID:VE6Yr@eventilla.com
DTSTAMP:20260617T050000Z
DTSTART:20260617T050000Z
DTEND:20260617T120000Z
SUMMARY:Tieturvallisuuskoulutus - Webinaari
DESCRIPTION:Tieturvallisuuskoulutus on suunnattu kaikille tiellä ja liikenteessä työskenteleville henkilöille. Koulutuksen kohderyhmiä ovat ensisijaisesti infra- ja kuljetusalojen työntekijät ja työtä johtavat esimiehet.\nKoulutuksen tavoitteena on kehittää osallistujien turvallisuusosaamista sekä lisätä tietoisuutta erilaisten tiellä tapahtuvien töiden riskeistä\, soveltuen niin kokeneille ammattilaisille kertaukseksi kuin myös uransa alussa oleville peruskoulutukseksi. Opetustapa on vuorovaikutteinen ja asiat käsitellään käytännönläheisesti.\nKoulutus ei korvaa Väylän Tieturva 1 -korttikoulutusta\, eikä tästä koulutuksesta myönnetä Tieturva 1 -pätevyyttä. Koulutuksesta on kuitenkin mahdollista saada kuljettajan ammattipätevyysmerkintä (vain 1 merkintä/vrk).\nKyseessä on etäkoulutus. Koulutus tapahtuu Microsoft Teams-sovelluksella. Voit osallistua koulutukseen selaimen kautta joko tietokoneella tai mobiililaitteella. Sovellusta ei tarvitse ladata koneelle tai mobiililaitteelle erikseen. Mikäli haluat ladata Teams-sovelluksen\, löydät sen omasta sovelluskaupasta. Tarkemmat ohjeet lähetetään vahvistusviestissä. 
LOCATION:Webinaari
URL:http://ssl.eventilla.com/event/VE6Yr
END:VEVENT
END:VCALENDAR
