BEGIN:VCALENDAR
METHOD:PUBLISH
VERSION:2.0
PRODID:-//Eventilla iCal Syndication//NONSGML Liana//EN
BEGIN:VEVENT
UID:VEpOP@eventilla.com
DTSTAMP:20260930T060000Z
DTSTART:20260930T060000Z
DTEND:20261002T130000Z
SUMMARY:XVI Finnish Mechanics Days
DESCRIPTION:Welcome to the XVI Finnish Mechanics Days!\nAn open and inclusive forum for experimental\, computational\, and theoretical mechanics across scientific and engineering disciplines.\nThe conference is held 30.9.-2.10.2026 in Oulu\, Finland.\nObjectives\nFinnish Mechanics Days promotes high-quality research in mechanics and strengthens collaboration between academia and industry. The conference brings together researchers\, engineers\, educators\, and professionals working in solid\, soil\, and rock mechanics\, fluid dynamics\, and related areas.\nThe programme reflects both established fields of mechanics and emerging developments in research and engineering practice\, including advances in digitalisation\, artificial intelligence\, and sustainable engineering.\n \nBackground\nFirst organized in Oulu in 1982\, Finnish Mechanics Days has evolved into a biennial event\, serving as a central meeting point for the mechanics community in Finland and an important venue for international exchange.\nThe conference covers a broad range of topics in the mechanics of solids\, soils\, rocks\, and fluids\, together with diverse scientific and engineering applications. Areas addressed include:\n\nstructural analysis and mechanics of materials\nfluid dynamics and fluid–structure interaction\nfracture and fatigue\nthermomechanics and micromechanics\ncontact mechanics\nstructural optimization and numerical methods\nmultibody dynamics and mechatronics\ndesign of structures and machines\nindustrial and medical applications\n\n \nImportant Dates\n\nAbstract deadline: May 31\, 2026\nEarly registration opens:  May 1\, 2026\n
LOCATION:Oulu, Finland\, Finland
URL:http://ssl.eventilla.com/fmd2026
END:VEVENT
END:VCALENDAR
