BEGIN:VCALENDAR
METHOD:PUBLISH
VERSION:2.0
PRODID:-//Eventilla iCal Syndication//NONSGML Liana//EN
BEGIN:VEVENT
UID:VEwL7@eventilla.com
DTSTAMP:20250810T100000Z
DTSTART:20250810T100000Z
DTEND:20250810T110000Z
SUMMARY:Tamminiemen Design-kierros museokorttilaisille
DESCRIPTION:Tamminiemen Design-kierros\nKierroksella museokorttilaisilla on tilaisuus tustua suomalaiseen huippumuotoiluun\, Urho ja Sylvi Kekkosen omistamiin design-esineisiin.Urho ja Sylvi Kekkonen arvostivat suomalaista designia\, ja tämä näkyy myös Tamminiemessä\, joka on täynnä etenkin 1960- ja 1970-lukujen kuumimpien suomalaisten muotoilijoiden ja taiteilijoiden tuotantoa.\nIlmoittaudu kierrokselle\, ja saavu paikalle museon lipunmyyntiin ennen klo 13.\nKierrokselle mahtuu 20 osallistujaa. Kierros kestää n. 60 minuuttia.
LOCATION:Tamminiemi\, Tamminiementie 2\, Helsinki
URL:http://ssl.eventilla.com/event/VEwL7
END:VEVENT
END:VCALENDAR
