BEGIN:VCALENDAR
METHOD:PUBLISH
VERSION:2.0
PRODID:-//Eventilla iCal Syndication//NONSGML Liana//EN
BEGIN:VEVENT
UID:VPEJr@eventilla.com
DTSTAMP:20260513T111500Z
DTSTART:20260513T111500Z
DTEND:20260513T140000Z
SUMMARY:Kiipeily
DESCRIPTION:Kiipelyreissu yläkoululaisille Kiipeilykeskus K2:ssa keskiviikkona 13.5. Kuljetus lähtee Naantalista klo 14.15 ja paluu takaisin noin klo 17.00. Kiipeilyaika on klo 15.00-16.30. \nMukaan mahtuu 10 osallistujaa ja reissu on osallistujille maksuton.
LOCATION:Kiipeilykeskus K2\, Kairiskulmantie 16\, 20760\, Piispanristi\,
 Suomi
URL:http://ssl.eventilla.com/kiipeilykevat-26
END:VEVENT
END:VCALENDAR
