BEGIN:VCALENDAR
METHOD:PUBLISH
VERSION:2.0
PRODID:-//Eventilla iCal Syndication//NONSGML Liana//EN
BEGIN:VEVENT
UID:WL935@eventilla.com
DTSTAMP:20240614T150000Z
DTSTART:20240614T150000Z
DTEND:20240614T180000Z
SUMMARY:Helsinki Central Park Run 2024
DESCRIPTION:Helsinki Central Park Run 2024 juostaan 14.6.2024.\nIlmoittautuminen on nyt auki!\nLue lisää tapahtuman nettisivuilta.\nMaksutapoina on yleisimmät suomalaiset verkkopankit ja luottokortit\, sekä liikuntaedut.\nMikäli valitset maksutavaksi liikuntaedut\, katsothan maksuohjeet täältä: https://www.runhigh.fi/liikuntaeduilla-maksaminen\nLiikuntaedut ovat henkilökohtaisia\, joten niillä voit maksaa vain oman ilmoittautumisesi.
LOCATION:Paloheinän maja\, Pakilantie 124\, 00670\, Helsinki\, Suomi
URL:http://ssl.eventilla.com/helsinki-central-park-run-2024
END:VEVENT
END:VCALENDAR
