BEGIN:VCALENDAR
METHOD:PUBLISH
VERSION:2.0
PRODID:-//Eventilla iCal Syndication//NONSGML Liana//EN
BEGIN:VEVENT
UID:WLdr2@eventilla.com
DTSTAMP:20230102T153000Z
DTSTART:20230102T153000Z
DTEND:20230102T173000Z
SUMMARY:Uuden vuoden kävely ma 2.1.2023
DESCRIPTION:Uuden vuoden kävely ma 2.1.2023\nLähde uuden vuoden retkelle reippailemaan Meri-Rastilaan. Lähtö ma 2.1. klo 17.30 Rastilan metroaseman ovelta. Kävelemme lumitilanteesta riippuen joko ulkoilureittejä tai pienempiä polkuja pitkin\, metsiä ja merimaisemia ihaillen. Ota mukaan otsalamppu tai taskulamppu\, istuinalusta ja halutessasi lämmintä juotavaa.\nMatkaa tulee 3-4 km\, retken kesto noin 2 tuntia. Retki sopii koko perheelle. Ilmoittaudu nettisivuilla.\nOppaina Jenni ja Virva (p. 050 3792879)\nTervetuloa mukaan!
LOCATION:Rastilan metroasema\, Torisilta\, 00980\, Helsinki\, Suomi
URL:http://ssl.eventilla.com/event/WLdr2
END:VEVENT
END:VCALENDAR
