BEGIN:VCALENDAR
METHOD:PUBLISH
VERSION:2.0
PRODID:-//Eventilla iCal Syndication//NONSGML Liana//EN
BEGIN:VEVENT
UID:WLeQX@eventilla.com
DTSTAMP:20250823T051000Z
DTSTART:20250823T051000Z
DTEND:20250823T120000Z
SUMMARY:Björn Borg Helsinki Marathon 2025
DESCRIPTION:Björn Borg Helsinki Marathon 2025 juostaan 23.8.2025.\nIlmoittaudu nyt mukaan! Voit myös ilmoittautumisen yhteydessä ostaa Björn Borgin valmistaman tapahtuman virallisen t-paidan hintaan 19 €.\nMukana myös lasten oma juoksutapahtuma Kids Run Helsinki Park perjantaina 22.8.2025!\nMaksutapoina on yleisimmät suomalaiset verkkopankit ja luottokortit\, sekä liikuntaedut. Mikäli valitset maksutavaksi liikuntaedun\, tutustuthan maksuohjeeseen täällä. Liikuntaedut ovat henkilökohtaisia\, joten niillä et voi maksaa toisen osallistujan ilmoittautumismaksua.
LOCATION:Meripuisto\, 00100\, Helsinki\, Suomi
URL:http://ssl.eventilla.com/helsinki-marathon-2025
END:VEVENT
END:VCALENDAR
