BEGIN:VCALENDAR
METHOD:PUBLISH
VERSION:2.0
PRODID:-//Eventilla iCal Syndication//NONSGML Liana//EN
BEGIN:VEVENT
UID:WpAYX@eventilla.com
DTSTAMP:20260425T050000Z
DTSTART:20260425T050000Z
DTEND:20260425T120000Z
SUMMARY:Ennakoiva ajaminen EAK - Webinaari
DESCRIPTION:Ennakoivan ajon koulutuksen tavoitteena on\, että kuljettaja osaa tunnistaa riskejä\, ennakoida ja välttää vaaratilanteita.\nEnnakoiva ajo (EAK) on kuljettajan ammattipätevyyden jatkokoulutuksen ainoa pakollinen koulutus. Koulutus pidetään teoriaopetuksena\, joka sisältää keskusteluita\, ryhmätöitä ja harjoituksia. Ennakoivan ajon koulutuksessa ei ole käytännön ajoharjoittelua. \nEnnakoivan ajon koulutuksesta annettava ammattipätevyysmerkintä on voimassa viisi (5) vuotta. Ennakoiva ajo ja kuljettajan jatkokoulutuksen ammattipätevyys uusitaan käymällä viiden vuoden välein seitsemän (7) tunnin ennakoivan ajon kurssi sekä yhteensä 35 tuntia kuljettajan ammattipätevyyskoulutusta (vain 1 merkintä/vrk).\nKyseessä on etäkoulutus. Koulutus tapahtuu Microsoft Teams-sovelluksella. Voit osallistua koulutukseen selaimen kautta joko tietokoneella tai mobiililaitteella. Sovellusta ei tarvitse ladata koneelle tai mobiililaitteelle erikseen. Mikäli haluat ladata Teams-sovelluksen\, löydät sen omasta sovelluskaupasta. Tarkemmat ohjeet lähetetään vahvistusviestissä. 
LOCATION:Webinaari
URL:http://ssl.eventilla.com/event/WpAYX
END:VEVENT
END:VCALENDAR
