BEGIN:VCALENDAR
METHOD:PUBLISH
VERSION:2.0
PRODID:-//Eventilla iCal Syndication//NONSGML Liana//EN
BEGIN:VEVENT
UID:WpK91@eventilla.com
DTSTAMP:20251111T060000Z
DTSTART:20251111T060000Z
DTEND:20251111T070000Z
SUMMARY:Markkinointipähkinät yhdessä purtavaksi
DESCRIPTION:Brändipavut ja markkinointimurhat\nAamun paras hetki on\, kun saa hetken hengähtää hyvän kahvin ja ajatuksia herättävän keskustelun äärellä. Brändipavut & markkinointimurhat on rento aamukahvitilaisuus sinulle markkinointityyppi\, joka pyörität yrityksen markkinointia yksin tai kaksin -  ilman isoa tiimiä\, mutta täynnä ideoita ja tekemisen paloa. Näillä aamukahveilla ei pönötetä puheenvuoroja kuunnellen vaan jutellaan rennosti ja vaihdetaan uusia ideoita\, jotka voivat tehdä arjesta vähän helpompaa ja hauskempaa. \n☕ Mitä luvassa?\n\n\nPohdintaa ja puheen sorinaa tekoälystä\n\n\nVapaamuotoista verkostoitumista ja vertaistukea\n\n\nHyvää kahvia ja pientä purtavaa\n\n\n📍 Missä ja milloin?Tiistaina 11.11. kello 8.00 alkaenHelmi Säästöpankin toimipisteTorikatu 3\, (2 krs) Lahti\nPaikkoja on rajallisesti\, joten nappaa omasi pian!Tämä tilaisuus on maksuton\, ja kokoonnumme aina joka kuukauden toisena tiistaina vaihtuvien teemojen äärelle - be there.\n
LOCATION:Helmi Säästöpankki - Torikatu 3, Lahti\, Torikatu 3\, 15110\,
 Lahti\, Suomi
URL:http://ssl.eventilla.com/brandipavut_markkinointimurhat-tekoaly
END:VEVENT
END:VCALENDAR
