BEGIN:VCALENDAR
METHOD:PUBLISH
VERSION:2.0
PRODID:-//Eventilla iCal Syndication//NONSGML Liana//EN
BEGIN:VEVENT
UID:Xp0Pz@eventilla.com
DTSTAMP:20260308T073000Z
DTSTART:20260308T073000Z
DTEND:20260308T140000Z
SUMMARY:Eläinlääkärin kirjanpito 2026
DESCRIPTION:Kohderyhmä:                     Kurssi on suunnattu henkilöille\, joilla ei ole aikaisempaa kokemusta ammatinharjoittajan kirjanpidosta. Kurssilla käsitellään eläinlääkärin kirjanpitoa perusteista ja käsitteistä lähtien ja jatkaen kirjanpidon käytännön toteutukseen. Kurssilla voidaan käsitellä myös kirjanpitoa sivuavia ammatinharjoittajan taloushallintaan liittyviä perusasioita.\nKoulutus järjestetään lähiopetuksena ja webinaarina. Tapahtumaa ei tallenneta jälkikatseluun. Luennoitsijamme toivoo mahdollisimman monen osallistuvan lähiopetukseen. \nJärjestäjä:Fennovet Oy Suomen Eläinlääkäriliiton toimeksiannosta.\nLisätietoja:Koulutussuunnittelija Ida-Maria Kouvo\nida-maria.kouvo@fennovet.fi | 045 728 59 65
LOCATION:Hotelli Helka & Webinaari\, Pohjoinen Rautatienkatu 23\, 00100\,
 Helsinki
URL:http://ssl.eventilla.com/event/Xp0Pz
END:VEVENT
END:VCALENDAR
