BEGIN:VCALENDAR
METHOD:PUBLISH
VERSION:2.0
PRODID:-//Eventilla iCal Syndication//NONSGML Liana//EN
BEGIN:VEVENT
UID:Xp9g9@eventilla.com
DTSTAMP:20260512T050000Z
DTSTART:20260512T050000Z
DTEND:20260512T120000Z
SUMMARY:Digipiirturin käyttö-\, ajo- ja lepoaika sekä työaikalakikoulutus - Webinaari
DESCRIPTION:Digipiirturi tutuksi on kuljettajan ammattipätevyyden jatkokoulutusta täydentävä kurssi. Koulutuksen tavoitteena on edistää kuljettajien ajo- ja lepoaikalakiin\, työaikalakiin ja digipiirturin käyttöön liittyvää osaamista. Koulutuksessa oppii sovittamaan yhteen ajo- ja lepoaikalain sekä työaikalain autonkuljettajia koskevat määräykset\, sekä käyttämään ajopiirturia oikein.\nDigipiirturin käyttö-\, ajo-\, ja lepoaika sekä työaikalakikoulutus on tarkoitettu kaikille kuorma- ja linja-autonkuljettajan ammattipätevyyden jatkokoulutusta suorittaville henkilöille (vain 1 trafimerkintä/vrk). Koulutus antaa erinomaiset valmiudet ajopiirturin käyttöön sekä laajan ymmärryksen ajo- ja lepoaikalain sekä työaikalain autonkuljettajia koskevista määräyksistä.\nKyseessä on etäkoulutus. Koulutus tapahtuu Microsoft Teams-sovelluksella. Voit osallistua koulutukseen selaimen kautta joko tietokoneella tai mobiililaitteella. Sovellusta ei tarvitse ladata koneelle tai mobiililaitteelle erikseen. Mikäli haluat ladata Teams-sovelluksen\, löydät sen omasta sovelluskaupasta. Tarkemmat ohjeet lähetetään vahvistusviestissä. 
LOCATION:Webinaari
URL:http://ssl.eventilla.com/event/Xp9g9
END:VEVENT
END:VCALENDAR
