BEGIN:VCALENDAR
METHOD:PUBLISH
VERSION:2.0
PRODID:-//Eventilla iCal Syndication//NONSGML Liana//EN
BEGIN:VEVENT
UID:XpJ29@eventilla.com
DTSTAMP:20260612T100000Z
DTSTART:20260612T100000Z
DTEND:20260612T120000Z
SUMMARY:Alkusammutuskorttikoulutus AS1
DESCRIPTION:Alkusammutus on kansalaistaito\, jota voi tarvita missä tahansa: kotona\, töissä\, liikenteessä tai mökillä. Alkusammutuskoulutuksessa saat taidot palonalkujen sammuttamiseen. Tehokkaan alkusammutuksen avulla voi ehkäistä tai vähentää tulipalon aiheuttamia vahinkoja merkittävästi. Kahden tunnin alkusammutuskoulutus koostuu teoriaosuudesta ja käytännön sammutusharjoituksista.\nAlkusammutuskoulutus (2h) toteutetaan kansallisen alkusammutuskonseptin mukaisesti. Koulutukseen osallistunut saa Suomen Pelastusalan Keskusjärjestön (SPEK) myöntämän alkusammutuskortin (AS1-kortti)\, joka on voimassa viisi (5) vuotta.
LOCATION:Presto Paloturvallisuus\, Teerisuonkuja 7\, 00700\, Helsinki
URL:http://ssl.eventilla.com/event/XpJ29
END:VEVENT
END:VCALENDAR
