BEGIN:VCALENDAR
METHOD:PUBLISH
VERSION:2.0
PRODID:-//Eventilla iCal Syndication//NONSGML Liana//EN
BEGIN:VEVENT
UID:XpLEz@eventilla.com
DTSTAMP:20260608T070000Z
DTSTART:20260608T070000Z
DTEND:20260612T083000Z
SUMMARY:Uimakoulut kesä 2026
DESCRIPTION:Alkeisuimakoulut 5- vuotta täyttäneille naantalilaisille lapsille. Uimakoulu järjestetään Aurinkosäätiön uima-altaan tiloissa viikolla 24\, ajalla 8.–12.6. 26. Kurssi kestää viisi päivää (ma–pe). Uimakouluja on kolme ryhmää: klo 10.0–10.30\, 10.30–11.00 ja 11.00–11.30. Uimakoulun hinta 30 €.  \nUimakoulussa opitaan uinnin alkeistaitoja kuten: kastautumista\, kuplien puhaltamista\, itsenäistä liikkumista\, kelluntoja\, liukuja\, hyppäämistä\, sukeltamista sekä opetellaan myyrä- sekä alkeisselkäuintia. Tavoitteena on oppia 5- 10 m uimataito. \nIlmoittautuminen on sitova\, maksu palautetaan vain sairastapauksissa.
LOCATION:Aurinkosäätiö\, Myllynkiventie 5\, 21100\, Naantali\, Suomi
URL:http://ssl.eventilla.com/event/XpLEz
END:VEVENT
END:VCALENDAR
