BEGIN:VCALENDAR
METHOD:PUBLISH
VERSION:2.0
PRODID:-//Eventilla iCal Syndication//NONSGML Liana//EN
BEGIN:VEVENT
UID:Xpae3@eventilla.com
DTSTAMP:20251112T090000Z
DTSTART:20251112T090000Z
DTEND:20251112T100000Z
SUMMARY:LiteracyEssentials@QNL: ProQuest Platform - Exploring Your Academic Research Assistant (in Arabic)
DESCRIPTION:Join this session\, which is conducted in Arabic\, to learn how Clarivate\, a global company that provides research intelligence\, is harnessing AI capabilities to help you review\, analyze\, and interrogate documents more effectively\, expand your horizons with research topic suggestions\, and craft more precise\, targeted searches.\nNote: If you would like to attend the session in English\, please click this link to view the available dates.\nThe event will be held online via Microsoft Teams.\nDate: 12 November 2025\nTime: 12:00 - 1:00 PM\nLanguage: Arabic\nTarget Audience: Researchers\nSeats are limited\, please click the button below to register.
LOCATION:عبر الإنترنت على منصة Microsoft Teams\, Doha\,
 Qatar
URL:http://events.qnl.qa/event/Xpae3
END:VEVENT
END:VCALENDAR
