BEGIN:VCALENDAR
METHOD:PUBLISH
VERSION:2.0
PRODID:-//Eventilla iCal Syndication//NONSGML Liana//EN
BEGIN:VEVENT
UID:Xpd01@eventilla.com
DTSTAMP:20260518T050000Z
DTSTART:20260518T050000Z
DTEND:20260519T120000Z
SUMMARY:Maanmittauspäivät 2026
DESCRIPTION:Maanmittauspäivät 2026\nIlmoittautuminen\n\nMMP 2026 Normaalihinta (voimassa 15.4.2026 asti): 560 € + alv\nJälki-ilmoittautuminen (iltajuhlapaikkaa/erityisruokavaliotoiveita ei voi taata) 13.5.2026 asti: 660 € + alv\nEläkeläinen 190 € + alv (15.4.2026 asti\, sen jälkeen 300 € + alv)\nOpiskelija 150 € + alv (15.4.2026 asti\, sen jälkeen 200 € + alv)\n\nIlmoittautumisen yhteydessä voi maksaa suoraan luottokortilla tai verkkopankilla tai vaihtoehtoisesti ilmoittaa laskutustiedot.\nIlmoittautumismaksu sisältää osallistumisen Maanmittauspäivät 2026 -tapahtumaan 18.-19.5.2026\, aamu- ja iltapäiväkahvit ja lounaat sekä tapahtumaan kuuluvan iltajuhlaan.\nMaanmittauspäivät järjestetään läsnätilaisuutena\, etäosallistuminen ei ole mahdollista.\n \nMajoitusvaraukset\nMaanmittauspäivien osallistujat varaavat tarvittavan majoituksen omatoimisesti.\nJärjestäjän neuvottelema majoitus Scandicin hotelleissä on varattavissa osoitteessa www.scandichotels.fi varauskoodilla CGWM. Majoittujat voivat valita mieleisensä hotellin ja huonetyypin sekä saada lisäalennusta maksaessaan heti varauksen yhteydessä. \nYksittäisen majoitusvarauksen peruutusehto riippuu majoittujan valitsemasta varaustyypistä. Varauksen vahvistamiseksi majoittujan tulee antaa hotellille voimassa olevat luottokorttitiedot. Huoneet ovat varattavissa hotellin varaustilanteen mukaan viimeistään 10 päivää ennen saapumista.\n \nTapahtuma LinkedIn:issä\n \n#maanmittauspäivät #mmp\n \nTapahtuman verkkosivu ja ohjelma
LOCATION:Scandic Grand Marina Congress Center\, Katajanokanlaituri 6\,
 00160\, Helsinki
URL:http://ssl.eventilla.com/maanmittauspaivat_2026
END:VEVENT
END:VCALENDAR
