BEGIN:VCALENDAR
METHOD:PUBLISH
VERSION:2.0
PRODID:-//Eventilla iCal Syndication//NONSGML Liana//EN
BEGIN:VEVENT
UID:XrzL9@eventilla.com
DTSTAMP:20260519T070000Z
DTSTART:20260519T070000Z
DTEND:20260519T080000Z
SUMMARY:Webinaari: Tekoäly hallitustyön agendalle
DESCRIPTION:Tervetuloa webinaariin\, jossa paneudutaan aluejohtajamme Janne Leuhtosen johdolla yhteen keskeiseen kysymykseen: mitä hallituksen on ymmärrettävä tekoälystä\, jotta se voi tehdä työnsä?\nWebinaarissa aiheina:\n\nEU AI Act käytännössä: mitä velvoitteita on jo voimassa\, mihin tulee varautua ja kuka organisaatiossa on vastuussa.\nKaksi casea kentältä: konkreettiset esimerkit siitä\, miten tekoäly tulee organisaatioon halusit tai et\, ja millaisia riskejä se tuo mukanaan.\nTekoäly ja hallitusvastuu: strateginen kilpailuympäristö\, muutosjohtaminen ja asiakasarvo hallituksen näkökulmasta.\nOsaamisen rakentaminen: UNESCO:n ja tuoreen tutkimuksen (DIPS-malli\, Boetje 2024) tarjoamat viitekehykset sille\, mitä kriittinen tekoälylukutaito tarkoittaa johtajan arjessa.\n\nWebinaari päättyy konkreettiseen hallituksen tekoälychecklistiin — viisi kysymystä\, jotka voit ottaa seuraavaan kokoukseen mukaan.\nWebinaari on maksuton\, sitä ei myöskään nauhoteta. Mukaan mahtuu rajoitettu määrä osallistujia ilmoittautumisjärjestyksessä. \nTervetuloa!
LOCATION:Webinaari
URL:http://ssl.eventilla.com/tekoaly_hallitustyon_agendalle
END:VEVENT
END:VCALENDAR
