BEGIN:VCALENDAR
METHOD:PUBLISH
VERSION:2.0
PRODID:-//Eventilla iCal Syndication//NONSGML Liana//EN
BEGIN:VEVENT
UID:Y70GO@eventilla.com
DTSTAMP:20220607T053000Z
DTSTART:20220607T053000Z
DTEND:20220607T073000Z
SUMMARY:Tiera Vesseli 7.6. klo 8:30-10:30 – tutustu järjestelmään demojen avulla
DESCRIPTION:Tervetuloa Tiera Vesseli -demowebinaariin!\n \nToiminnallisuuden tutuksi Tiera Vesselissä \n \nTervetuloa hieman pidempään Tiera Cafe webinaariin! Tilaisuudessa käymme demojen kautta läpi Tiera Vesselin toiminnallisuuksia kunnan varhaiskasvatuspalvelujen järjestämisen tarpeisiin.\nWebinaarissa pääset tutustumaan itse järjestelmään (look and feel)\, tutustut keskeisiin toiminnallisuuksien prosesseihin ja vastaamme kysymyksiin Vesseli palvelusta konkreettisella tasolla. \n \nWebinaarin teemat:\n\nTiera Vesseli -palvelun lyhyt esittely \nPerustoiminnallisuudet ja -prosessit\nRoolipohjaiset käyttöliittymät \nKeskeiset integraatiot\nKeskustelua \n\n \nTervetuloa mukaan!\n \nTilaisuus toteutetaan yhteistyössä Kuntien Tieran ja While on the Move oy:n kanssa\nWebinaari järjestetään Teams-kokouksena ja osallistumislinkki lähetetään ilmoittautuneille päivää ennen tilaisuutta sähköpostilla.
LOCATION:
URL:http://ssl.eventilla.com/tiera-vesseli-demowebinaari-k2022
END:VEVENT
END:VCALENDAR
