BEGIN:VCALENDAR
METHOD:PUBLISH
VERSION:2.0
PRODID:-//Eventilla iCal Syndication//NONSGML Liana//EN
BEGIN:VEVENT
UID:Y7Bw2@eventilla.com
DTSTAMP:20240603T050000Z
DTSTART:20240603T050000Z
DTEND:20240620T130000Z
SUMMARY:Koululaisten kesäkerho 1.- 4 luokkalaisille Taimon koululla 3.- 20.6.2024
DESCRIPTION:Kesäkoululaiskerho on tarkoitettu naantalilaisille tänä lukuvuotena 1.- 4. luokalla oleville vuonna 2013 - 2016 syntyneille lapsille. Kerhopaikkana toimii Taimon koulu ja sen lähiympäristö. Kerhohintaan sisältyy ohjaus\, tarvikkeet\, lounas\, välipala sekä vakuutus. Viikon aikana pidämme retkipäivän. Retkikohde vahvistuu myöhemmin. Kerhon ohjaajina toimivat kaupungin koulunkäynninohjaajat.\nKerhon monipuolinen ohjelma sisältää leikkimistä\, pelailua\, askartelua sekä erilaisia kädentaitoja. Omatoimiselle leikille on varattu myös aikaa. Viikon aikana ulkoillaan ja pelaillaan myös koulun lähiympäristössä.\nKerhoviikoille otetaan 40 lasta ilmoittautumisjärjestyksessä.  Toiminta-aika on päivittäin klo 8.00-16.00.\nIlmoittautuminen alkaa 29.2.2022 klo 17.00. Ilmoittautuminen on sitova ja se maksetaan heti ilmoittautumisen yhteydessä. \nLisätietoja:\nJari-Pekka Ahovaaravs. Aamu- ja iltapäivätoiminnan koordinaattori\n040 8232272etunimi.sukunimi@naantali.fi\n 
LOCATION:Taimon koulu\, Soinistentie 2\, 21110\, Naantali\, Suomi
URL:http://ssl.eventilla.com/taimon_kesakerho_
END:VEVENT
END:VCALENDAR
