BEGIN:VCALENDAR
METHOD:PUBLISH
VERSION:2.0
PRODID:-//Eventilla iCal Syndication//NONSGML Liana//EN
BEGIN:VEVENT
UID:Y7RJb@eventilla.com
DTSTAMP:20231002T143000Z
DTSTART:20231002T143000Z
DTEND:20231002T160000Z
SUMMARY:Celebrating Cultures Beyond Books: "How to Design a Book Cover" Workshop
DESCRIPTION:Join us at the Library for a festival full of fun and discovery\, as we celebrate the Qatar-Indonesia 2023 Year of Culture!\nAs part of this celebration\, we're holding a workshop for young adults on how to design a book cover. This workshop will offer young designers the opportunity to learn about book cover designs\, and how to transform your imagination into graphical elements to express the ideas of the book. \nJoin us  to learn the essentials of designing a book cover from start to finish! And also participate in our "Book Cover Challenge". \nDate: 2 October 2023\nTime: 5:30 - 7:00 PM \nLanguage: Arabic and English\nTarget Audience: Young Adults 12 - 18 Years\nSeats are limited\, please click the button below to register.
LOCATION:Auditorium
URL:http://events.qnl.qa/event/Y7RJb
END:VEVENT
END:VCALENDAR
