BEGIN:VCALENDAR
METHOD:PUBLISH
VERSION:2.0
PRODID:-//Eventilla iCal Syndication//NONSGML Liana//EN
BEGIN:VEVENT
UID:YMab2@eventilla.com
DTSTAMP:20260909T060000Z
DTSTART:20260909T060000Z
DTEND:20260909T120000Z
SUMMARY:Säteilyturvallisuusvastaavan (STV) täydennyskoulutus
DESCRIPTION:Säteilyturvallisuusvastaavan (STV) täydennyskoulutusSäteilylain mukaan turvallisuuslupaa edellyttävässä toiminnassa toiminnanharjoittajan on nimettävä säteilyturvallisuusvastaava ja tarvittaessa tälle sijainen. Säteilyturvallisuusvastaavan tehtävänä on huolehtia toiminnanharjoittajan apuna säteilysuojelun toteuttamisesta.\nSosiaali- ja terveysministeriön asetus (1044/2018) edellyttää\, että säteilyturvallisuusvastaa-vat saavat ammattitaitoa ylläpitävää täydennyskoulutusta.\nKoulutuksen tavoite:Täydentää ja päivittää säteilyturvallisuusvastaavien (STV) tietoja turvallisuusmääräyksistä koskien umpilähteitä ja röntgentoimintaa sekä avolähteiden käyttöä laboratoriossa säteily-lähteiden luokassa 3.\nKohderyhmä:                                                                               Säteilylähteiden ja röntgenlaitteiden turvallisuudesta ja käytöstä vastaavat henkilöt sekä laitteiden käyttäjät\, jotka toimivat teollisuudessa\, opetuksessa sekä tutkimuksessa.
LOCATION:Presto Oy, Suomen Turvaprojektit\, Rajavoudinkuja 5\, 01740\,
 Vantaa\, Suomi
URL:http://ssl.eventilla.com/event/YMab2
END:VEVENT
END:VCALENDAR
