BEGIN:VCALENDAR
METHOD:PUBLISH
VERSION:2.0
PRODID:-//Eventilla iCal Syndication//NONSGML Liana//EN
BEGIN:VEVENT
UID:Ya5B9@eventilla.com
DTSTAMP:20241112T130000Z
DTSTART:20241112T130000Z
DTEND:20241112T180000Z
SUMMARY:Valtio restauroi – oheistapahtuma
DESCRIPTION:Valtio restauroi -seminaarin ohessa Senaatti-kiinteistöt esittelee  Säätytalon restaurointihanketta ensin yleisesti ja sen jälkeen neljällä pienemmän ryhmän työmaakierroksella.\nAlustava ohjelma\n15.00–16.30 Hankkeen esittely Tieteiden talolla (Sali 505)\n\nesittelijöinä Selja Flink\, Simo Freese\, Kati Winterhalter ja Tommi Nick\nmax 60 osallistujaa\nSenaatti tarjoaa kahvit\n\n17.00–19.00 Kierrokset Säätytalon työmaalla\n\nNeljä ryhmää á 15 henkeä\nTyömaalla paikalla restaurointi- ja konservointiurakoitsijat esittelemässä työtään\nTurvallinen\, rajattu reitti\n\n19.00 Vapaamuotoiset jatkot Thirsty Scholarissa\n \n» Ilmoittaudu Valtio restauroi -seminaariin
LOCATION:Tieteiden talo\, Kirkkokatu 6\, 00170\, Helsinki
URL:http://ssl.eventilla.com/vr7-oheistapahtuma
END:VEVENT
END:VCALENDAR
