BEGIN:VCALENDAR
METHOD:PUBLISH
VERSION:2.0
PRODID:-//Eventilla iCal Syndication//NONSGML Liana//EN
BEGIN:VEVENT
UID:YaPbX@eventilla.com
DTSTAMP:20251004T060000Z
DTSTART:20251004T060000Z
DTEND:20251005T120000Z
SUMMARY:Triggerpiste lisäkoulutus
LOCATION:STEP-koulutus, Pieksämäki\, Huvilakatu 31\, 76130\,
 Pieksämäki\, Suomi
URL:http://ssl.eventilla.com/event/YaPbX
END:VEVENT
END:VCALENDAR
