BEGIN:VCALENDAR
METHOD:PUBLISH
VERSION:2.0
PRODID:-//Eventilla iCal Syndication//NONSGML Liana//EN
BEGIN:VEVENT
UID:YaZZE@eventilla.com
DTSTAMP:20251010T130000Z
DTSTART:20251010T130000Z
DTEND:20251010T143000Z
SUMMARY:LiteracyEssentials@QNL: Zotero - Citation Management Made Easy (Arabic)
DESCRIPTION:Learn the basics of citation management with Zotero.In this session\, you will explore how to collect\, save\, and cite sources automatically within your documents\, as well as how to generate bibliographies with ease.\nThis workshop is designed for researchers and university students and is part of the LiteracyEssentials@QNL series\, which supports lifelong learning by strengthening library skills\, information and digital literacy\, and fundamental research competencies.\nThe event will be conducted online via Microsoft Teams. \nDate: 10 October 2025\nTime: 4:00 - 5:30 PM\nLanguage: Arabic\nTarget Audience: Researchers\, Student \, Adults \nSeats are limited\, please click the button below to register.
LOCATION:Online via Microsoft Teams
URL:http://events.qnl.qa/event/YaZZE
END:VEVENT
END:VCALENDAR
