BEGIN:VCALENDAR
METHOD:PUBLISH
VERSION:2.0
PRODID:-//Eventilla iCal Syndication//NONSGML Liana//EN
BEGIN:VEVENT
UID:Z5PJG@eventilla.com
DTSTAMP:20260623T053000Z
DTSTART:20260623T053000Z
DTEND:20260623T061500Z
SUMMARY:Webinaari - Kansallinen ruokastrategia 2040
DESCRIPTION:Missä mennään Kansallisen ruokastrategian toimeenpanosuunnitelman valmistelussa? Tervetuloa kuulemaan strategiatyön etenemisestä webinaariin\n23.6. klo 8.30-9.15\nKaikille avoin tilaisuus järjestetään etäyhteyksin Teams -webinaarina.  \nMikäli jokin askarruttaa\, kuulemme siitä mielellämme. Voit jättää tilaisuuden järjestäjille terveisiä ilmoittautumisen yhteydessä. \n 
LOCATION:Teams
URL:http://ssl.eventilla.com/event/Z5PJG
END:VEVENT
END:VCALENDAR
