BEGIN:VCALENDAR
METHOD:PUBLISH
VERSION:2.0
PRODID:-//Eventilla iCal Syndication//NONSGML Liana//EN
BEGIN:VEVENT
UID:Z73La@eventilla.com
DTSTAMP:20251119T080000Z
DTSTART:20251119T080000Z
DTEND:20251119T090000Z
SUMMARY:LiteracyEssentials@QNL:ProQuest Platform - Exploring Your Academic Research Assistant
DESCRIPTION:Join this session to learn how Clarivate\, a global company that provides research intelligence\, is harnessing AI capabilities to help you review\, analyze\, and interrogate documents more effectively\, expand your horizons with research topic suggestions\, and craft more precise\, targeted searches.\nThe event will be held online via Microsoft Teams.\nNote: If you would like to attend the session in Arabic\, please click this link to view the available dates.\nDate: 19 November 2025\nTime: 11:00 AM - 12:00 PM\nLanguage: English\nTarget Audience: Researchers\nSeats are limited\, please click the button below to register.
LOCATION:عبر الإنترنت على منصة Microsoft Teams\, Doha\,
 Qatar
URL:http://events.qnl.qa/event/Z73La
END:VEVENT
END:VCALENDAR
