BEGIN:VCALENDAR
METHOD:PUBLISH
VERSION:2.0
PRODID:-//Eventilla iCal Syndication//NONSGML Liana//EN
BEGIN:VEVENT
UID:Z76Rk@eventilla.com
DTSTAMP:20260318T070000Z
DTSTART:20260318T070000Z
DTEND:20260318T100000Z
SUMMARY:Microsoft Copilot tekoälyn perusteet
DESCRIPTION:Kuvaus\nTekoäly tehostaa tutkitusti tekstin tuottamiseen\, muokkaamiseen\, viestintään ja tiedon hankintaan liittyviä työtehtäviä. Microsoft 365 Copilot tuo generatiivisen tekoälyn integroidusti saataville tuttuihin Microsoftin ohjelmiin. Suurin osa Fortune 500 yrityksistä käyttää jo Copilottia toimintansa tehostamiseen.\nTässä koulutuksessa opit käytännön esimerkkien avulla hyödyntämään Microsoft Copilotin tekoälytoimintoja. Koulutus keskittyy tekoälyn käyttöön ja ennakkotietoja Copilotista tai generatiivisesta tekoälystä ei tarvita.\nSaat vastauksia esimerkiksi seuraavanlaisiin kysymyksiin. Miten voin luonnostella nopeammin myyntiraportin Wordillä? Mitä päätettiin Teams palaverissa\, johon en ehtinyt osallistua? Miten teen nopeasti PowerPoint esityksen seuraavaan palaveriini? Mitkä ovat Excel-taulukkoni tärkeimmät pointit? Miten käytän Copilot Chattiä? Mitä uusia tekoälyominaisuuksia on tullut esimerkiksi Exceliin\, Powerpointiin tai Wordiin ja mitä uutta myöhemmin tulossa?\nKenelle: Koulutus on tarkoitettu kaikille\, jotka pohtivat Microsoft 365 Copilot käyttöönottoa ja haluavat saada ymmärryksen siitä\, mihin ja miten Copilottia voi käyttää tai ovat jo Copilot käyttäjiä ja haluavat oppia lisää tai päivittää osaamistaan.\n__\nEtäkoulutus: Microsoft Copilot tekoälyn perusteet\, PDF\nOhjelma klo 9.00–12.00 +/-15 min.\nSisältö:\n\nMicrosoft 365 Copilot yleisesti\nKäytön tietoturva \nMitä uutta ja tulossa?\nCopilot Chat\nWord Copilot\nPowerpoint Copilot\nExcel Copilot\nOutlook Copilot\nTeams Copilot\nOhjeita ja vinkkejä\n\n_\n \n \n 
LOCATION:Etäkoulutus\, Suomi
URL:http://ssl.eventilla.com/event/Z76Rk
END:VEVENT
END:VCALENDAR
