BEGIN:VCALENDAR
METHOD:PUBLISH
VERSION:2.0
PRODID:-//Eventilla iCal Syndication//NONSGML Liana//EN
BEGIN:VEVENT
UID:Z77zb@eventilla.com
DTSTAMP:20241216T054500Z
DTSTART:20241216T054500Z
DTEND:20241216T070000Z
SUMMARY:Joulupuuroa ja stand uppia!
DESCRIPTION:Tervetuloa yrittäjien joulupuurotilaisuuteen Backaksen kartanolle! 🎄\nAamu alkaa joulupuurolla klo 7.45. Puuro nautitaan kartanon tunnelmallisissa puitteissa\, ja tarjolla on myös kupponen kuumaa. Luvassa on rentoa yhdessäoloa sekä verkostoitumista yrittäjäkollegoiden kesken. Ilmoittaudu viimeistään 11.12. mennessä.\nKlo 8.00 lavalle nousee Comedyfabe\, joka pistää nauruhermot koetukselle stand up -esityksellään.\nPuurot\, naurut ja verkostoituminen paketissa\, homma purkissa klo 9.00. Tule mukaan\, nappaa joulumieltä matkaasi ja verkostoidu rennossa seurassa!\n
LOCATION:Backaksen Kartano\, Ylästöntie 28\, 01510\, Vantaa\, Suomi
URL:http://ssl.eventilla.com/yrittajienjoulupuuro
END:VEVENT
END:VCALENDAR
