BEGIN:VCALENDAR
METHOD:PUBLISH
VERSION:2.0
PRODID:-//Eventilla iCal Syndication//NONSGML Liana//EN
BEGIN:VEVENT
UID:Z78Aq@eventilla.com
DTSTAMP:20260425T053000Z
DTSTART:20260425T053000Z
DTEND:20260425T130000Z
SUMMARY:Hätäensiapukurssi 8h
DESCRIPTION: \n 
LOCATION:Inarin kunta / yhteisötila Kultapiisku\, Piiskuntie 5\, 99800\,
 Ivalo
URL:http://ssl.eventilla.com/event/Z78Aq
END:VEVENT
END:VCALENDAR
